Package: BASiCStan Version: 1.11.0 Command: /home/biocbuild/bbs-3.22-bioc/R/bin/R CMD INSTALL BASiCStan StartedAt: 2025-10-24 16:05:55 -0400 (Fri, 24 Oct 2025) EndedAt: 2025-10-24 16:10:29 -0400 (Fri, 24 Oct 2025) EllapsedTime: 273.3 seconds RetCode: 0 Status: OK