Package: BASiCStan Version: 1.11.0 Command: /Library/Frameworks/R.framework/Resources/bin/R CMD INSTALL BASiCStan StartedAt: 2025-10-24 15:32:23 -0400 (Fri, 24 Oct 2025) EndedAt: 2025-10-24 15:33:42 -0400 (Fri, 24 Oct 2025) EllapsedTime: 78.8 seconds RetCode: 0 Status: OK