Package: BASiCStan Version: 1.11.0 Command: /Library/Frameworks/R.framework/Resources/bin/R CMD build --keep-empty-dirs --no-resave-data BASiCStan StartedAt: 2025-10-24 15:44:59 -0400 (Fri, 24 Oct 2025) EndedAt: 2025-10-24 15:46:18 -0400 (Fri, 24 Oct 2025) EllapsedTime: 78.9 seconds RetCode: 0 Status: OK PackageFile: BASiCStan_1.11.0.tar.gz PackageFileSize: 76.99 KiB