Package: BASiCStan Version: 1.11.0 Command: rm -rf BASiCStan.buildbin-libdir && mkdir BASiCStan.buildbin-libdir && /Users/biocbuild/BBS/utils/build-universal.sh BASiCStan_1.11.0.tar.gz /Library/Frameworks/R.framework/Resources/bin/R BASiCStan.buildbin-libdir StartedAt: 2025-10-26 22:29:31 -0400 (Sun, 26 Oct 2025) EndedAt: 2025-10-26 22:30:44 -0400 (Sun, 26 Oct 2025) EllapsedTime: 72.4 seconds RetCode: 0 Status: OK PackageFile: BASiCStan_1.11.0.tgz PackageFileSize: 1007 KiB