Package: BASiCS Version: 2.21.1 Command: rm -rf BASiCS.buildbin-libdir && mkdir BASiCS.buildbin-libdir && /Users/biocbuild/BBS/utils/build-universal.sh BASiCS_2.21.1.tar.gz /Library/Frameworks/R.framework/Resources/bin/R BASiCS.buildbin-libdir StartedAt: 2025-10-25 01:28:44 -0400 (Sat, 25 Oct 2025) EndedAt: 2025-10-25 01:30:24 -0400 (Sat, 25 Oct 2025) EllapsedTime: 99.6 seconds RetCode: 0 Status: OK PackageFile: BASiCS_2.21.1.tgz PackageFileSize: 3.934 MiB