Package: BASiCS Version: 2.21.1 Command: /Library/Frameworks/R.framework/Resources/bin/R CMD INSTALL BASiCS StartedAt: 2025-10-26 15:29:15 -0400 (Sun, 26 Oct 2025) EndedAt: 2025-10-26 15:29:39 -0400 (Sun, 26 Oct 2025) EllapsedTime: 24.7 seconds RetCode: 0 Status: OK