Package: BASiCS Version: 2.21.1 Maintainer: Catalina Vallejos MaintainerEmail: catalina.vallejos at igmm.ed.ac.uk git_url: https://git.bioconductor.org/packages/BASiCS git_branch: devel git_last_commit: a6635d4 git_last_commit_date: 2025-09-17 04:48:21 -0400 (Wed, 17 Sep 2025)