Package: BAGS Version: 2.49.0 Command: /home/biocbuild/bbs-3.22-bioc/R/bin/R CMD INSTALL BAGS StartedAt: 2025-10-24 15:22:30 -0400 (Fri, 24 Oct 2025) EndedAt: 2025-10-24 15:22:34 -0400 (Fri, 24 Oct 2025) EllapsedTime: 4.1 seconds RetCode: 0 Status: OK