Package: AssessORF Version: 1.28.0 Command: /home/biocbuild/R/R/bin/R CMD INSTALL AssessORF StartedAt: 2025-11-24 21:43:16 -0000 (Mon, 24 Nov 2025) EndedAt: 2025-11-24 21:43:32 -0000 (Mon, 24 Nov 2025) EllapsedTime: 16.3 seconds RetCode: 0 Status: OK