Package: AssessORF Version: 1.28.0 Command: /home/biocbuild/R/R/bin/R CMD build --keep-empty-dirs --no-resave-data AssessORF StartedAt: 2025-11-21 00:12:28 -0000 (Fri, 21 Nov 2025) EndedAt: 2025-11-21 00:13:16 -0000 (Fri, 21 Nov 2025) EllapsedTime: 48.0 seconds RetCode: 0 Status: OK PackageFile: AssessORF_1.28.0.tar.gz PackageFileSize: 4.696 MiB