Package: AssessORF Version: 1.27.0 Command: /home/biocbuild/bbs-3.22-bioc/R/bin/R CMD check --install=check:AssessORF.install-out.txt --library=/home/biocbuild/bbs-3.22-bioc/R/site-library --timings AssessORF_1.27.0.tar.gz StartedAt: 2025-10-27 21:06:33 -0400 (Mon, 27 Oct 2025) EndedAt: 2025-10-27 21:08:43 -0400 (Mon, 27 Oct 2025) EllapsedTime: 130.1 seconds RetCode: 0 Status: OK CheckDir: AssessORF.Rcheck Warnings: 0