Package: AssessORF Version: 1.27.0 Command: /Library/Frameworks/R.framework/Resources/bin/R CMD INSTALL AssessORF StartedAt: 2025-10-24 15:41:13 -0400 (Fri, 24 Oct 2025) EndedAt: 2025-10-24 15:41:30 -0400 (Fri, 24 Oct 2025) EllapsedTime: 17.1 seconds RetCode: 0 Status: OK