Package: AssessORF Version: 1.27.0 Command: /Library/Frameworks/R.framework/Resources/bin/R CMD build --keep-empty-dirs --no-resave-data AssessORF StartedAt: 2025-10-24 16:09:23 -0400 (Fri, 24 Oct 2025) EndedAt: 2025-10-24 16:10:08 -0400 (Fri, 24 Oct 2025) EllapsedTime: 44.5 seconds RetCode: 0 Status: OK PackageFile: AssessORF_1.27.0.tar.gz PackageFileSize: 4.703 MiB