Package: AssessORF Version: 1.27.0 Command: /Library/Frameworks/R.framework/Resources/bin/R CMD INSTALL AssessORF StartedAt: 2025-10-24 15:22:22 -0400 (Fri, 24 Oct 2025) EndedAt: 2025-10-24 15:22:27 -0400 (Fri, 24 Oct 2025) EllapsedTime: 5.1 seconds RetCode: 0 Status: OK