Package: ArrayExpress Version: 1.69.0 Command: /home/biocbuild/R/R/bin/R CMD build --keep-empty-dirs --no-resave-data ArrayExpress StartedAt: 2025-10-20 21:42:36 -0000 (Mon, 20 Oct 2025) EndedAt: 2025-10-20 21:50:01 -0000 (Mon, 20 Oct 2025) EllapsedTime: 445.1 seconds RetCode: 0 Status: OK PackageFile: ArrayExpress_1.69.0.tar.gz PackageFileSize: 133.3 KiB