Package: ArrayExpress Version: 1.69.0 Command: F:\biocbuild\bbs-3.22-bioc\R\bin\R.exe CMD INSTALL ArrayExpress StartedAt: 2025-08-14 16:05:47 -0400 (Thu, 14 Aug 2025) EndedAt: 2025-08-14 16:06:21 -0400 (Thu, 14 Aug 2025) EllapsedTime: 34.2 seconds RetCode: 0 Status: OK