Package: ArrayExpress Version: 1.69.0 Command: /home/biocbuild/bbs-3.22-bioc/R/bin/R CMD check --install=check:ArrayExpress.install-out.txt --library=/home/biocbuild/bbs-3.22-bioc/R/site-library --timings ArrayExpress_1.69.0.tar.gz StartedAt: 2025-10-24 21:12:28 -0400 (Fri, 24 Oct 2025) EndedAt: 2025-10-24 21:18:54 -0400 (Fri, 24 Oct 2025) EllapsedTime: 385.4 seconds RetCode: 1 Status: ERROR CheckDir: ArrayExpress.Rcheck Warnings: NA