Package: ArrayExpress Version: 1.69.0 Command: /home/biocbuild/bbs-3.22-bioc/R/bin/R CMD build --keep-empty-dirs --no-resave-data --md5 ArrayExpress StartedAt: 2025-10-24 16:23:23 -0400 (Fri, 24 Oct 2025) EndedAt: 2025-10-24 16:25:51 -0400 (Fri, 24 Oct 2025) EllapsedTime: 147.1 seconds RetCode: 0 Status: OK PackageFile: ArrayExpress_1.69.0.tar.gz PackageFileSize: 138 KiB