Package: ArrayExpress Version: 1.69.0 Command: /Library/Frameworks/R.framework/Resources/bin/R CMD INSTALL ArrayExpress StartedAt: 2025-10-24 15:29:34 -0400 (Fri, 24 Oct 2025) EndedAt: 2025-10-24 15:30:08 -0400 (Fri, 24 Oct 2025) EllapsedTime: 33.9 seconds RetCode: 0 Status: OK