Package: ArrayExpress Version: 1.69.0 Command: /Library/Frameworks/R.framework/Resources/bin/R CMD build --keep-empty-dirs --no-resave-data ArrayExpress StartedAt: 2025-10-24 16:08:56 -0400 (Fri, 24 Oct 2025) EndedAt: 2025-10-24 16:11:43 -0400 (Fri, 24 Oct 2025) EllapsedTime: 166.8 seconds RetCode: 0 Status: OK PackageFile: ArrayExpress_1.69.0.tar.gz PackageFileSize: 136 KiB