Package: ArrayExpress Version: 1.69.0 Command: rm -rf ArrayExpress.buildbin-libdir && mkdir ArrayExpress.buildbin-libdir && /Users/biocbuild/BBS/utils/build-universal.sh ArrayExpress_1.69.0.tar.gz /Library/Frameworks/R.framework/Resources/bin/R ArrayExpress.buildbin-libdir StartedAt: 2025-10-25 01:28:03 -0400 (Sat, 25 Oct 2025) EndedAt: 2025-10-25 01:28:41 -0400 (Sat, 25 Oct 2025) EllapsedTime: 38.0 seconds RetCode: 0 Status: OK PackageFile: ArrayExpress_1.69.0.tgz PackageFileSize: 182.5 KiB