Package: ArrayExpress Version: 1.69.0 Command: /Library/Frameworks/R.framework/Resources/bin/R CMD INSTALL ArrayExpress StartedAt: 2025-10-26 15:11:24 -0400 (Sun, 26 Oct 2025) EndedAt: 2025-10-26 15:11:34 -0400 (Sun, 26 Oct 2025) EllapsedTime: 10.4 seconds RetCode: 0 Status: OK