Package: AnnotationHubData Version: 1.39.2 Command: /home/biocbuild/R/R/bin/R CMD INSTALL AnnotationHubData StartedAt: 2025-10-23 21:03:40 -0000 (Thu, 23 Oct 2025) EndedAt: 2025-10-23 21:04:33 -0000 (Thu, 23 Oct 2025) EllapsedTime: 52.7 seconds RetCode: 0 Status: OK