Package: AnnotationHubData Version: 1.39.2 Command: /home/biocbuild/R/R/bin/R CMD build --keep-empty-dirs --no-resave-data AnnotationHubData StartedAt: 2025-10-23 21:42:49 -0000 (Thu, 23 Oct 2025) EndedAt: 2025-10-23 21:43:42 -0000 (Thu, 23 Oct 2025) EllapsedTime: 53.0 seconds RetCode: 0 Status: OK PackageFile: AnnotationHubData_1.39.2.tar.gz PackageFileSize: 425.2 KiB