Package: AnnotationHubData Version: 1.39.2 Command: /home/biocbuild/bbs-3.22-bioc/R/bin/R CMD INSTALL AnnotationHubData StartedAt: 2025-10-24 15:51:23 -0400 (Fri, 24 Oct 2025) EndedAt: 2025-10-24 15:52:05 -0400 (Fri, 24 Oct 2025) EllapsedTime: 41.5 seconds RetCode: 0 Status: OK