Package: AnnotationHubData Version: 1.39.2 Command: /home/biocbuild/bbs-3.22-bioc/R/bin/R CMD check --install=check:AnnotationHubData.install-out.txt --library=/home/biocbuild/bbs-3.22-bioc/R/site-library --timings AnnotationHubData_1.39.2.tar.gz StartedAt: 2025-10-24 21:10:22 -0400 (Fri, 24 Oct 2025) EndedAt: 2025-10-24 21:19:55 -0400 (Fri, 24 Oct 2025) EllapsedTime: 572.7 seconds RetCode: 0 Status: WARNINGS CheckDir: AnnotationHubData.Rcheck Warnings: 1