Package: AnnotationHubData Version: 1.39.2 Command: /home/biocbuild/bbs-3.22-bioc/R/bin/R CMD build --keep-empty-dirs --no-resave-data --md5 AnnotationHubData StartedAt: 2025-10-24 16:22:32 -0400 (Fri, 24 Oct 2025) EndedAt: 2025-10-24 16:23:16 -0400 (Fri, 24 Oct 2025) EllapsedTime: 44.1 seconds RetCode: 0 Status: OK PackageFile: AnnotationHubData_1.39.2.tar.gz PackageFileSize: 402.7 KiB