Package: AnnotationHubData Version: 1.39.2 Command: /Library/Frameworks/R.framework/Resources/bin/R CMD INSTALL AnnotationHubData StartedAt: 2025-10-26 15:21:15 -0400 (Sun, 26 Oct 2025) EndedAt: 2025-10-26 15:21:32 -0400 (Sun, 26 Oct 2025) EllapsedTime: 17.4 seconds RetCode: 0 Status: OK