Package: AnnotationHubData Version: 1.39.2 Command: rm -rf AnnotationHubData.buildbin-libdir && mkdir AnnotationHubData.buildbin-libdir && /Users/biocbuild/BBS/utils/build-universal.sh AnnotationHubData_1.39.2.tar.gz /Library/Frameworks/R.framework/Resources/bin/R AnnotationHubData.buildbin-libdir StartedAt: 2025-10-26 22:28:50 -0400 (Sun, 26 Oct 2025) EndedAt: 2025-10-26 22:29:08 -0400 (Sun, 26 Oct 2025) EllapsedTime: 17.6 seconds RetCode: 0 Status: OK PackageFile: AnnotationHubData_1.39.2.tgz PackageFileSize: 933.7 KiB