Package: AnnotationHub Version: 3.99.6 Command: /home/biocbuild/bbs-3.22-bioc/R/bin/R CMD INSTALL AnnotationHub StartedAt: 2025-10-24 15:36:08 -0400 (Fri, 24 Oct 2025) EndedAt: 2025-10-24 15:36:24 -0400 (Fri, 24 Oct 2025) EllapsedTime: 16.0 seconds RetCode: 0 Status: OK