Package: AnnotationHub Version: 3.99.6 Command: /home/biocbuild/bbs-3.22-bioc/R/bin/R CMD build --keep-empty-dirs --no-resave-data --md5 AnnotationHub StartedAt: 2025-10-27 16:14:07 -0400 (Mon, 27 Oct 2025) EndedAt: 2025-10-27 16:16:03 -0400 (Mon, 27 Oct 2025) EllapsedTime: 116.1 seconds RetCode: 0 Status: OK PackageFile: AnnotationHub_3.99.6.tar.gz PackageFileSize: 979.9 KiB