Package: AnnotationForge Version: 1.52.0 Command: /home/biocbuild/bbs-3.22-bioc/R/bin/R CMD check --install=check:AnnotationForge.install-out.txt --library=/home/biocbuild/bbs-3.22-bioc/R/site-library --timings AnnotationForge_1.52.0.tar.gz StartedAt: 2025-10-30 03:26:51 -0400 (Thu, 30 Oct 2025) EndedAt: 2025-10-30 03:31:19 -0400 (Thu, 30 Oct 2025) EllapsedTime: 267.4 seconds RetCode: 0 Status: OK CheckDir: AnnotationForge.Rcheck Warnings: 0