Package: AnnotationForge Version: 1.51.1 Command: /Library/Frameworks/R.framework/Resources/bin/R CMD INSTALL AnnotationForge StartedAt: 2025-10-24 15:33:41 -0400 (Fri, 24 Oct 2025) EndedAt: 2025-10-24 15:34:05 -0400 (Fri, 24 Oct 2025) EllapsedTime: 24.0 seconds RetCode: 0 Status: OK