Package: AnnotationForge Version: 1.51.1 Command: rm -rf AnnotationForge.buildbin-libdir && mkdir AnnotationForge.buildbin-libdir && /Users/biocbuild/BBS/utils/build-universal.sh AnnotationForge_1.51.1.tar.gz /Library/Frameworks/R.framework/Resources/bin/R AnnotationForge.buildbin-libdir StartedAt: 2025-10-25 01:27:43 -0400 (Sat, 25 Oct 2025) EndedAt: 2025-10-25 01:28:12 -0400 (Sat, 25 Oct 2025) EllapsedTime: 29.1 seconds RetCode: 0 Status: OK PackageFile: AnnotationForge_1.51.1.tgz PackageFileSize: 4.184 MiB