Package: AnnotationForge Version: 1.51.1 Command: /Library/Frameworks/R.framework/Resources/bin/R CMD INSTALL AnnotationForge StartedAt: 2025-10-26 15:13:45 -0400 (Sun, 26 Oct 2025) EndedAt: 2025-10-26 15:13:52 -0400 (Sun, 26 Oct 2025) EllapsedTime: 6.5 seconds RetCode: 0 Status: OK