Package: AnnotationForge Version: 1.51.1 Command: /Library/Frameworks/R.framework/Resources/bin/R CMD build --keep-empty-dirs --no-resave-data AnnotationForge StartedAt: 2025-10-26 15:38:02 -0400 (Sun, 26 Oct 2025) EndedAt: 2025-10-26 15:39:16 -0400 (Sun, 26 Oct 2025) EllapsedTime: 74.9 seconds RetCode: 0 Status: OK PackageFile: AnnotationForge_1.51.1.tar.gz PackageFileSize: 3.838 MiB