Package: AnnotationForge Version: 1.51.1 Maintainer: Bioconductor Package Maintainer MaintainerEmail: maintainer at bioconductor.org git_url: https://git.bioconductor.org/packages/AnnotationForge git_branch: devel git_last_commit: d5a6cb0 git_last_commit_date: 2025-10-16 10:30:44 -0400 (Thu, 16 Oct 2025)