Package: AnnotationDbi Version: 1.72.0 Command: /home/biocbuild/R/R/bin/R CMD INSTALL AnnotationDbi StartedAt: 2025-11-20 22:15:21 -0000 (Thu, 20 Nov 2025) EndedAt: 2025-11-20 22:15:48 -0000 (Thu, 20 Nov 2025) EllapsedTime: 27.2 seconds RetCode: 0 Status: OK