Package: AnnotationDbi Version: 1.72.0 Command: /home/biocbuild/R/R/bin/R CMD build --keep-empty-dirs --no-resave-data AnnotationDbi StartedAt: 2025-11-21 00:07:25 -0000 (Fri, 21 Nov 2025) EndedAt: 2025-11-21 00:08:36 -0000 (Fri, 21 Nov 2025) EllapsedTime: 71.0 seconds RetCode: 0 Status: OK PackageFile: AnnotationDbi_1.72.0.tar.gz PackageFileSize: 4.159 MiB