Package: AnnotationDbi Version: 1.71.2 Command: /home/biocbuild/bbs-3.22-bioc/R/bin/R CMD INSTALL AnnotationDbi StartedAt: 2025-10-24 15:35:45 -0400 (Fri, 24 Oct 2025) EndedAt: 2025-10-24 15:36:03 -0400 (Fri, 24 Oct 2025) EllapsedTime: 18.2 seconds RetCode: 0 Status: OK