Package: AnnotationDbi Version: 1.71.2 Command: /home/biocbuild/bbs-3.22-bioc/R/bin/R CMD check --install=check:AnnotationDbi.install-out.txt --library=/home/biocbuild/bbs-3.22-bioc/R/site-library --timings AnnotationDbi_1.71.2.tar.gz StartedAt: 2025-10-24 21:09:29 -0400 (Fri, 24 Oct 2025) EndedAt: 2025-10-24 21:13:38 -0400 (Fri, 24 Oct 2025) EllapsedTime: 249.3 seconds RetCode: 0 Status: OK CheckDir: AnnotationDbi.Rcheck Warnings: 0