Package: AnnotationDbi Version: 1.71.2 Command: /home/biocbuild/bbs-3.22-bioc/R/bin/R CMD build --keep-empty-dirs --no-resave-data --md5 AnnotationDbi StartedAt: 2025-10-24 16:22:03 -0400 (Fri, 24 Oct 2025) EndedAt: 2025-10-24 16:22:57 -0400 (Fri, 24 Oct 2025) EllapsedTime: 54.1 seconds RetCode: 0 Status: OK PackageFile: AnnotationDbi_1.71.2.tar.gz PackageFileSize: 4.178 MiB