Package: AnnotationDbi Version: 1.71.2 Command: /Library/Frameworks/R.framework/Resources/bin/R CMD INSTALL AnnotationDbi StartedAt: 2025-10-24 15:32:55 -0400 (Fri, 24 Oct 2025) EndedAt: 2025-10-24 15:33:23 -0400 (Fri, 24 Oct 2025) EllapsedTime: 28.1 seconds RetCode: 0 Status: OK