Package: AnnotationDbi Version: 1.71.2 Command: /Library/Frameworks/R.framework/Resources/bin/R CMD build --keep-empty-dirs --no-resave-data AnnotationDbi StartedAt: 2025-10-24 16:07:55 -0400 (Fri, 24 Oct 2025) EndedAt: 2025-10-24 16:09:19 -0400 (Fri, 24 Oct 2025) EllapsedTime: 83.5 seconds RetCode: 0 Status: OK PackageFile: AnnotationDbi_1.71.2.tar.gz PackageFileSize: 4.171 MiB