Package: AnnotationDbi Version: 1.71.2 Command: rm -rf AnnotationDbi.buildbin-libdir && mkdir AnnotationDbi.buildbin-libdir && /Users/biocbuild/BBS/utils/build-universal.sh AnnotationDbi_1.71.2.tar.gz /Library/Frameworks/R.framework/Resources/bin/R AnnotationDbi.buildbin-libdir StartedAt: 2025-10-25 01:27:41 -0400 (Sat, 25 Oct 2025) EndedAt: 2025-10-25 01:28:12 -0400 (Sat, 25 Oct 2025) EllapsedTime: 31.4 seconds RetCode: 0 Status: OK PackageFile: AnnotationDbi_1.71.2.tgz PackageFileSize: 4.969 MiB