Package: AnnotationDbi Version: 1.71.2 Command: rm -rf AnnotationDbi.buildbin-libdir && mkdir AnnotationDbi.buildbin-libdir && /Users/biocbuild/BBS/utils/build-universal.sh AnnotationDbi_1.71.2.tar.gz /Library/Frameworks/R.framework/Resources/bin/R AnnotationDbi.buildbin-libdir StartedAt: 2025-10-24 22:53:59 -0400 (Fri, 24 Oct 2025) EndedAt: 2025-10-24 22:54:08 -0400 (Fri, 24 Oct 2025) EllapsedTime: 8.2 seconds RetCode: 0 Status: OK PackageFile: AnnotationDbi_1.71.2.tgz PackageFileSize: 4.971 MiB