Package: AnnotationDbi Version: 1.71.2 Maintainer: Bioconductor Package Maintainer MaintainerEmail: maintainer at bioconductor.org git_url: https://git.bioconductor.org/packages/AnnotationDbi git_branch: devel git_last_commit: 515985f git_last_commit_date: 2025-10-14 13:03:41 -0400 (Tue, 14 Oct 2025)