Package: Anaquin Version: 2.33.0 Command: /home/biocbuild/bbs-3.22-bioc/R/bin/R CMD INSTALL Anaquin StartedAt: 2025-10-24 15:33:05 -0400 (Fri, 24 Oct 2025) EndedAt: 2025-10-24 15:33:10 -0400 (Fri, 24 Oct 2025) EllapsedTime: 5.9 seconds RetCode: 0 Status: OK