Package: AnVILWorkflow Version: 1.9.0 Command: /home/biocbuild/bbs-3.22-bioc/R/bin/R CMD INSTALL AnVILWorkflow StartedAt: 2025-10-24 15:22:01 -0400 (Fri, 24 Oct 2025) EndedAt: 2025-10-24 15:22:10 -0400 (Fri, 24 Oct 2025) EllapsedTime: 9.0 seconds RetCode: 0 Status: OK