Package: AnVILWorkflow Version: 1.10.0 Command: /Library/Frameworks/R.framework/Resources/bin/R CMD INSTALL AnVILWorkflow StartedAt: 2025-11-03 15:18:04 -0500 (Mon, 03 Nov 2025) EndedAt: 2025-11-03 15:18:29 -0500 (Mon, 03 Nov 2025) EllapsedTime: 24.8 seconds RetCode: 0 Status: OK